BEGIN:VCALENDAR
VERSION:2.0
PRODID:-//YourOrganization//EventDownload//DE
CALSCALE:GREGORIAN
METHOD:PUBLISH
BEGIN:VEVENT
UID:69e8b9967fdca@leapup.bitshifters.cloud
DTSTAMP:20260422T140542Z
DTSTART:20250226T090000Z
DTEND:20250226T163000Z
SUMMARY:Symposium of the National Contact Point (NCP) Health on the topic "Focus on the health cluster - experiences and perspectives on digitalisation in health research"
DESCRIPTION:The symposium is aimed at applicants\, multipliers and anyone interested in collaborative research in the field of health in the Horizon Europe programme.\nDigitalisation is becoming increasingly important in health research and healthcare. Therefore\, the motto of this event will be &bdquo\;Cluster&nbsp\;Health in Focus &ndash\; Experiences and Perspectives on Digitalisation in Health Research&ldquo\;.\nA representative of the&nbsp\;European Commission from the Directorate-General &bdquo\;Communication Networks\, Content and Technologies&ldquo\;&nbsp\;will provide background information on the&nbsp\;digitisation strategy of the&nbsp\;EU&nbsp\;and the &bdquo\;European Health Data Space&ldquo\; (EDHS)&nbsp\;will be presented. A representative of the TMF will present how German organisations are adapting to the&nbsp\;EDHS&nbsp\;. Furthermore\, experts will illustrate digitalisation in health research and the opportunities and risks of artificial intelligence (AI) with practical examples from European Union projects. The dialogue will be intensified in a panel discussion.
LOCATION: KOMED Mediapark\, Im Mediapark 7\, 50670 Köln
END:VEVENT
END:VCALENDAR
