BEGIN:VCALENDAR
VERSION:2.0
PRODID:-//YourOrganization//EventDownload//DE
CALSCALE:GREGORIAN
METHOD:PUBLISH
BEGIN:VEVENT
UID:69e4e7b99ee09@leapup.bitshifters.cloud
DTSTAMP:20260419T163329Z
DTSTART:20241120T100000Z
DTEND:20241120T164500Z
SUMMARY:Symposium on artificial intelligence (AI) in medical devices
DESCRIPTION:At our 4th Symposium &bdquo\;Artificial Intelligence (AI) in Medical Devices&ldquo\; in Frankfurt/Main\, we will once again address current topics and challenges&nbsp\;\nThe European Artificial Intelligence Act (AIA)&nbsp\;will soon come into force and will increase the legal requirements for AI-based medical devices such as RAin&nbsp\;Dr Zeynep Schreitm&uuml\;ller (Product Law Firm\, Augsburg) will explain.&nbsp\;&nbsp\;\nClinical trials are the most important source of clinical data\, especially for novel medical devices\, which are analysed as part of the clinical evaluation. Our speakers Dr Gabriele Feldmann and Dr Kirsten Dahm (AMS Advanced Medical Services GmbH\, Mannheim) will report on their experiences with medical device software and AI from the perspective of a CRO.\nFrom the perspective of international regulators such as the EU\, FDA\, MHRA and Health Canada\, Post-Market Surveillance (PMS)&nbsp\;is an essential prerequisite for safe and efficient AI-based medical devices. Corresponding requirements and solutions will be presented by Dr Thorsten Prinz (VDE\, Offenbach/Main).\nMedical device manufacturers have gained extensive experience in implementing the European Medical Device Regulation (MDR) over the past few years. Further requirements and standards are emerging worldwide in relation to AI technology. Dr Jasmine Schirmer (Carl Zeiss Meditec AG\, M&uuml\;nchen) will explain how her company is able to successfully meet the&nbsp\;practical implementation of regulatory challenges for AI-based medical devices.&nbsp\;\nIn brief\, this announcement will also include a section on the last presentation.&nbsp\;\nWe look forward to welcoming you in Frankfurt/Main!\nMEHR
LOCATION:Haus am Dom\, Domplatz 3\, 60311 Frankfurt am Main
END:VEVENT
END:VCALENDAR
