BEGIN:VCALENDAR
VERSION:2.0
PRODID:-//YourOrganization//EventDownload//DE
CALSCALE:GREGORIAN
METHOD:PUBLISH
BEGIN:VEVENT
UID:69e4ce9d23d57@leapup.bitshifters.cloud
DTSTAMP:20260419T144621Z
DTSTART:20240527T000000Z
DTEND:20240528T000000Z
SUMMARY:Symposium "Water is the coal of the future" | Hydrogen: key element for the energy transition
DESCRIPTION:𝙒𝙖𝙨𝙨𝙚𝙧𝙨𝙩𝙤𝙛𝙛 is undoubtedly a key building block for a sustainable future for Germany and the world. It offers the opportunity to drive forward the energy transition\, strengthen climate protection\, open up new economic opportunities and promote international cooperation.\nWe would like to take up this topic together with the AiF and invite you to a workshop with impulses\, presentations and panel discussions - the ideal opportunity to exchange ideas with stakeholders\, establish new collaborations and promote your ideas. 
LOCATION:Fraunhofer-Institut für Mikrostruktur von Werkstoffen und Systemen IMWS\, Walter-Hülse-Straße 1\, 06120 Halle (Saale)
END:VEVENT
END:VCALENDAR
