BEGIN:VCALENDAR
VERSION:2.0
PRODID:-//YourOrganization//EventDownload//DE
CALSCALE:GREGORIAN
METHOD:PUBLISH
BEGIN:VEVENT
UID:69e8a20b68076@leapup.bitshifters.cloud
DTSTAMP:20260422T122515Z
DTSTART:20211208T150000Z
DTEND:20211208T160000Z
SUMMARY:System Modelling with SystemC
DESCRIPTION:Virtual prototyping enables companies to design complex hardware architectures more efficiently. Learn more about the methodology of virtual prototyping and virtual product development for embedded systems with SystemC and its extensions AMS in this webinar.
LOCATION:Fraunhofer IIS/EAS\, Dresden
END:VEVENT
END:VCALENDAR
