BEGIN:VCALENDAR
VERSION:2.0
PRODID:-//YourOrganization//EventDownload//DE
CALSCALE:GREGORIAN
METHOD:PUBLISH
BEGIN:VEVENT
UID:69e4ce48c84a7@leapup.bitshifters.cloud
DTSTAMP:20260419T144456Z
DTSTART:20251021T000000Z
DTEND:20251022T000000Z
SUMMARY:Technology conference elmug4future 2025 in Jena: Measurement technology for life science: markets\, requirements and solutions
DESCRIPTION:"In life as in measurement technology: only those who choose the right parameters will get a meaningful result."\nSensor and measurement technology are among the drivers of innovation in all areas of application that deal with the structures and processes of life. These include\, for example\, precision diagnostics\, personalised treatment of serious illnesses and AI-supported interactive mechatronic systems during operations or in patient care. Continuous quality monitoring\, data integrity and preventive maintenance in production and logistics are important success factors.\nContinuous innovation and interdisciplinary collaboration open up major competitive advantages\, especially in an industrial environment threatened by cost pressure and a shortage of skilled labour. In addition to the development of a common technical language and interactive exchange\, the integration of new technologies into real-life applications serves as a decisive impetus for diversification. They create significant added value in the future market of healthcare - including the associated production and testing technologies.\nThe Call for Papers invites experts from research and industry to present their latest findings and experiences for various applications.\nWe are looking for contributions that deal with\, but are not limited to\, the following topics related to medical technology and pharmaceutical and biotechnology:\n\nActive medical devices\nIn-vivo and in-vitro diagnostics systems\nPoint-of-care diagnostics\nBiosensors\nLow-power sensor systems\nProduction\, testing and measurement technology for manufacturing and logistics\nSensor technology for in-process controls and preventive maintenance\nRobotics and assistance systems\, e.g. for surgical technology or care\nRobotics and assistance systems\, e.g. for surgical technology or care e.g. for surgical technology or care\nLegal requirements for medical devices\nMedical device life cycle\nCyber security for medical devices\nHealth 4.0: smart solutions for medicine and environmental monitoring\n"Wellness and healthy living" market potential\n\nFor more information on the event\, click here.
LOCATION:Ernst-Abbe-Hochschule Jena\, Carl-Zeiß-Promenade 2\, 07745 Jena
END:VEVENT
END:VCALENDAR
