BEGIN:VCALENDAR
VERSION:2.0
PRODID:-//YourOrganization//EventDownload//DE
CALSCALE:GREGORIAN
METHOD:PUBLISH
BEGIN:VEVENT
UID:69e7442b49b24@leapup.bitshifters.cloud
DTSTAMP:20260421T113227Z
DTSTART:20240229T100000Z
DTEND:20240229T113000Z
SUMMARY:The future of artificial intelligence? Legal issues when using ChatGPT and co. and your own AI applications
DESCRIPTION:The use of artificial intelligence (AI) has become an integral part of everyday business life. ChatGPT and DeepL are on everyone's lips. However\, the use of these technologies raises many legal questions: Can I freely use applications from other companies? What intellectual property rights apply to my own AI developments? How can I protect my own investments? What requirements apply with regard to data protection and data security?\nIn this 90-minute online seminar\, participants will receive an introduction to the extent to which AI applications can be protected by copyright or other intellectual property rights and how they can be commercially exploited. In addition\, the participants will learn about the following\nbest practice examples to learn which framework conditions must be observed when using AI and data in order to be able to act with legal certainty in everyday professional life.\nPresentation of Dr Daniel Sch&ouml\;neich:\nDr Daniel Sch&ouml\;neich is a lawyer at Battke Gr&uuml\;nberg\, where he is responsible for the Intellectual Property\, IT and Media Law team. His advice on intellectual property rights covers all areas of creative services. This includes copyright works as well as technical inventions. Their legal protection is often of great importance in research and development projects. Dr Daniel Sch&ouml\;neich draws up the necessary intellectual property rights and drafts the necessary licence or cooperation agreements.\nAs a specialist lawyer for intellectual property law\, Dr Daniel Sch&ouml\;neich also has a strong focus on IT and software contract law. Here\, he drafts and negotiates contracts together with clients and\, if necessary\, enforces the agreements in court. 
LOCATION:biosaxony Management GmbH\, online
END:VEVENT
END:VCALENDAR
