BEGIN:VCALENDAR
VERSION:2.0
PRODID:-//YourOrganization//EventDownload//DE
CALSCALE:GREGORIAN
METHOD:PUBLISH
BEGIN:VEVENT
UID:69e8e1f254f60@leapup.bitshifters.cloud
DTSTAMP:20260422T165754Z
DTSTART:20250508T090000Z
DTEND:20250510T170000Z
SUMMARY:therapie Leipzig - Trade Fair and Congress for Therapy\, Medical Rehabilitation and Prevention
DESCRIPTION:Therapy LEIPZIG is the leading trade fair and congress for therapy\, medical rehabilitation and prevention in German-speaking countries. Every two years\, it offers a comprehensive overview of the market and presents innovations\, products and services for modern and sustainable patient treatment.
LOCATION:Leipziger Messe GmbH\, Messe-Allee 1 (Halle 1 & 3)\, 04356 Leipzig
END:VEVENT
END:VCALENDAR
