BEGIN:VCALENDAR
VERSION:2.0
PRODID:-//YourOrganization//EventDownload//DE
CALSCALE:GREGORIAN
METHOD:PUBLISH
BEGIN:VEVENT
UID:69e4ca61d67db@leapup.bitshifters.cloud
DTSTAMP:20260419T142817Z
DTSTART:20251107T080000Z
DTEND:20251107T181500Z
SUMMARY:Update course: "Safety in genetic engineering" for project managers and biosafety officers
DESCRIPTION:The Scientific Continuing Education offers the refresher course "Safety in Genetic Engineering - Biological Safety" for project managers and biosafety officers in autumn. The digital training event is certified by the Saxon State Ministry of the Environment and Agriculture in accordance with Section 28 (5) of the Genetic Engineering Safety Ordinance (GenTSV-neu). 
LOCATION:Wissenschaftliche Weiterbildung\, Universität Leipzig\, Goethestraße 3–5\, 04109 Leipzig
END:VEVENT
END:VCALENDAR
