BEGIN:VCALENDAR
VERSION:2.0
PRODID:-//YourOrganization//EventDownload//DE
CALSCALE:GREGORIAN
METHOD:PUBLISH
BEGIN:VEVENT
UID:69e8a388a99e6@leapup.bitshifters.cloud
DTSTAMP:20260422T123136Z
DTSTART:20251013T000000Z
DTEND:20251016T000000Z
SUMMARY:V2025 International Conference and Exhibition for Vacuum | Plasma | Surface | Coating
DESCRIPTION:The V Conference is the meeting place for the vacuum\, plasma and coating industry. Speakers and exhibitors from industry and science will present the latest developments and innovations in the industry to the trade audience. Meet with the European community. Discover the exhibiting companies. These leading companies offer new opportunities and innovative products to advance your projects.The V Conference is the largest European platform for the exchange between industry and science for applied vacuum\, plasma and surface technology.\n\nInternational Conference\nIndustrial exhibition with more than 70 institutes and companies\nEducational events / tutorials\nPanel discussions &amp\; keynote presentations\nAward ceremonies\nJob-offers\nIndustrial evening &amp\; conference dinner\n\nMore information here!
LOCATION:International Congress Center Dresden\, Ostra-Ufer 2\, 01067 Dresden
END:VEVENT
END:VCALENDAR
