BEGIN:VCALENDAR
VERSION:2.0
PRODID:-//YourOrganization//EventDownload//DE
CALSCALE:GREGORIAN
METHOD:PUBLISH
BEGIN:VEVENT
UID:69e8b6004b47b@leapup.bitshifters.cloud
DTSTAMP:20260422T135024Z
DTSTART:20250430T084500Z
DTEND:20250430T130000Z
SUMMARY:Vigilance in action: from mandatory reporting to hazard prevention
DESCRIPTION:The European Medical Device Regulation (MDR) requires medical device manufacturers to ensure vigilance. The MDR stipulates that incidents in connection with medical devices must be recorded and evaluated by the manufacturer and\, if necessary\, reported to the national competent authorities. This is intended to ensure and improve the health protection and safety of patients\, users and third parties.
LOCATION:MS Teams\, Offenbach am Main
END:VEVENT
END:VCALENDAR
