BEGIN:VCALENDAR
VERSION:2.0
PRODID:-//YourOrganization//EventDownload//DE
CALSCALE:GREGORIAN
METHOD:PUBLISH
BEGIN:VEVENT
UID:69e4ce48c84a6@leapup.bitshifters.cloud
DTSTAMP:20260419T144456Z
DTSTART:20241126T090000Z
DTEND:20241127T160000Z
SUMMARY:Web seminar on in-house validation and quality assurance of measurement methods with InterVAL
DESCRIPTION:Web seminar on in-house validation and quality assurance of measurement procedures with InterVAL&nbsp\;26 - 27 November 2024&nbsp\;\nThis web seminar will teach you the basics of in-house validation and quality assurance\, which you can use to prove the performance of your measurement procedure and the legal certainty of your analysis results.\nLearn how to validate your methods in accordance with Regulation CIR 2021/808 (Commission Implementing Regulation).\nTime:&nbsp\;26 - 27 November 2024\, 9 am - 4 pm\nSpeakers&nbsp\;Dr Karina Hettwer\, Dipl.-Math. Bertrand Colson\nCosts:&nbsp\;650\,- &euro\; net per participant\nOverview:\nMethod validation: Definitions and conceptsIn-house validation according to CIR 2021/808&nbsp\;Validation parameters according to CIR 2021/808&nbsp\;Calculation of CC&alpha\; for confirmation methods&nbsp\;Calculation of CCb and decision value for screening methodsCalibration according to DIN 32645 and ISO 11843Target group:\nLaboratory managers and laboratory staff from government testing laboratories who use and validate analytical methods for residues of pharmacologically active substances in food-producing animalsInterVAL usersInterested laboratory managers and laboratory staff from private and public/governmental organisations\;public/governmental testing laboratories in the fields of food and feed\, environment\, forensics or medicineBenefit from the exchange with other participants and QuoData experts in various discussions.\nAll you need to participate is a stable internet connection\, a headset and a microphoneThe participation fee is 650 euros net
END:VEVENT
END:VCALENDAR
