BEGIN:VCALENDAR
VERSION:2.0
PRODID:-//YourOrganization//EventDownload//DE
CALSCALE:GREGORIAN
METHOD:PUBLISH
BEGIN:VEVENT
UID:69e8c9da0d34c@leapup.bitshifters.cloud
DTSTAMP:20260422T151506Z
DTSTART:20241204T090000Z
DTEND:20241204T160000Z
SUMMARY:Web seminar on quality control charts in the food laboratory
DESCRIPTION:This web seminar will teach you how to use control charts in the food laboratory.\nTime:&nbsp\;04 December 2024\, 9 am &ndash\; 4 pm\nSpeaker:&nbsp\;Dr Karina Hettwer\nOverview:\n\nWhat are control charts used for?\nWhat types of control charts are there - in which areas are they used?\nWhat can be used as a control sample?\nHow should the control cards be structured? What should be considered?\nWhat are external control situations and how are they handled?\nTechnical implementation: Excel/other tools using examples from the food laboratory\n\nTarget group:\nLaboratory managers\, QMBs and laboratory staff from testing laboratories in the food sectorThe total price for the web seminar is 400 euros net.\n\nTo register\n
END:VEVENT
END:VCALENDAR
