BEGIN:VCALENDAR
VERSION:2.0
PRODID:-//YourOrganization//EventDownload//DE
CALSCALE:GREGORIAN
METHOD:PUBLISH
BEGIN:VEVENT
UID:69e8cb73ad970@leapup.bitshifters.cloud
DTSTAMP:20260422T152155Z
DTSTART:20241203T090000Z
DTEND:20241203T160000Z
SUMMARY:Web seminar on test equipment monitoring
DESCRIPTION:Web seminar on test equipment monitoring03 December 2024This web seminar will provide you with specialist knowledge in test equipment monitoring.\nTime:&nbsp\;03 December 2024\, 9 am &ndash\; 2 pm\nSpeakers:&nbsp\;Martin J&auml\;hne\nOverview:\nNorms\, terms and definitionsMedical monitoring in practice IMedical monitoring in practice IIFinal discussion and questionsTarget group:\nLaboratory managers\, QMBs and laboratory employees of testing laboratories in the food sectorThe total price for the web seminar is 350 euros net.\nFurther information
END:VEVENT
END:VCALENDAR
