BEGIN:VCALENDAR
VERSION:2.0
PRODID:-//YourOrganization//EventDownload//DE
CALSCALE:GREGORIAN
METHOD:PUBLISH
BEGIN:VEVENT
UID:69e4c897e423a@leapup.bitshifters.cloud
DTSTAMP:20260419T142039Z
DTSTART:20240910T090000Z
DTEND:20240917T160000Z
SUMMARY:Web seminar on verification\, validation and determination of measurement uncertainty for quantitative & qualitative microbiological test methods
DESCRIPTION:Learn how to validate and verify quantitative and qualitative microbiological test methods according to&nbsp\;ISO 16140&nbsp\;and how to determine the measurement uncertainty according to&nbsp\;ISO 19036&nbsp\;\nTime:&nbsp\;10 - 11 &amp\; 17 September 2024\, 9 &ndash\; 16 hrs&nbsp\;\nSpeakers:&nbsp\;Dr Karina Hettwer\, Dipl.-Math. Bertrand Colson\nPrice:&nbsp\;550\,- &euro\; net per day and per participant\, all days can be booked individually or together.&nbsp\;Total price 1650\,- &euro\; net\nOverview:\nPlease note that the three web seminar days have been split over two weeks!\nDay 1\, 10 September 2024: Verification of quantitative and qualitative microbiological test methods\nDay 2\, 11 September 2024: In-house validation of quantitative and qualitative microbiological test methods\nDay 3\, 17 September 2024: Evaluation of the measurement uncertainty of quantitative microbiological test results&nbsp\;Target group:\nLaboratory managers and laboratory staff from private and public/official testing laboratories in the field of microbiology\, especially food microbiologyInterested employees and scientists from research institutionsInterested employees and scientists from the fields of veterinary medicine\, hospital hygiene\, environmental and agricultural sciencesBenefit from the exchange with other participants and QuoData experts in various discussions.\nA stable internet connection\, a headset and a microphone are all you need to participateThe participation fee per participant and day is 550\,-&euro\;&nbsp\;netPresentation slides&nbsp\;and a certificate of participation are included in the price&nbsp\; 
END:VEVENT
END:VCALENDAR
