BEGIN:VCALENDAR
VERSION:2.0
PRODID:-//YourOrganization//EventDownload//DE
CALSCALE:GREGORIAN
METHOD:PUBLISH
BEGIN:VEVENT
UID:69e8ccb54f83a@leapup.bitshifters.cloud
DTSTAMP:20260422T152717Z
DTSTART:20250430T150000Z
DTEND:20250430T160000Z
SUMMARY:Webinar: Advanced qualification of smart vibration sensors to optimise IoT applications
DESCRIPTION:Smart vibration sensors are used for infrastructure monitoring in smart cities and in the area of condition monitoring on machines and industrial plants. The sensors used are often based on microelectronic sensors (MEMS)\, which are tested as components in production\, but sometimes have different vibration properties in the finished sensor system. In the webinar\, you will learn how 3D laser vibrometry can be used to investigate the vibration properties of the overall system\, support development and optimise performance.\nThe webinar language is German.\nFurther information on the event can be found here.\n&nbsp\;
LOCATION:Fraunhofer IIS\, Institutsteil Entwicklung Adaptiver Systeme EAS\, online\, Dresden
END:VEVENT
END:VCALENDAR
