BEGIN:VCALENDAR
VERSION:2.0
PRODID:-//YourOrganization//EventDownload//DE
CALSCALE:GREGORIAN
METHOD:PUBLISH
BEGIN:VEVENT
UID:69e603cd85f55@leapup.bitshifters.cloud
DTSTAMP:20260420T124533Z
DTSTART:20250526T090000Z
DTEND:20250527T110000Z
SUMMARY:WEBINAR: CO2 footprint in thin-film technology | Challenges for business and science
DESCRIPTION:The workshop provides basic knowledge of regulatory requirements and reporting obligations. Existing tools for calculating test values and determining key figures will be presented. In this context\, challenges and open questions specifically for surface and vacuum technology will be identified and discussed. The event offers a discussion platform for current requirements for companies from the various perspectives of the value chain and inspires new developments towards a CO2-neutral economy through innovative process design strategies.\nFind more information here!
LOCATION:Online-Veranstaltung\, -
END:VEVENT
END:VCALENDAR
