BEGIN:VCALENDAR
VERSION:2.0
PRODID:-//YourOrganization//EventDownload//DE
CALSCALE:GREGORIAN
METHOD:PUBLISH
BEGIN:VEVENT
UID:69e8b717b0d5d@leapup.bitshifters.cloud
DTSTAMP:20260422T135503Z
DTSTART:20250918T150000Z
DTEND:20250918T160000Z
SUMMARY:Webinar: From the idea to the market launch (Startups)
DESCRIPTION:Webinar: From the idea to the market launch (start-ups)\n&gt\;&gt\; for people interested in founding a company and young companies &lt\;&lt\;\nYour hosts: Julia Süß and René Preusche \nWebinar: From idea to market launch (18 September 2025)
LOCATION:Online 
END:VEVENT
END:VCALENDAR
