BEGIN:VCALENDAR
VERSION:2.0
PRODID:-//YourOrganization//EventDownload//DE
CALSCALE:GREGORIAN
METHOD:PUBLISH
BEGIN:VEVENT
UID:69e4ce443bd2f@leapup.bitshifters.cloud
DTSTAMP:20260419T144452Z
DTSTART:20241022T100000Z
DTEND:20241022T110000Z
SUMMARY:Webinar: HP - Your partner for 3D printing in medical technology
DESCRIPTION:Learn in our webinar &bdquo\;HP - Your partner for 3D printing in medical technology&ldquo\; why 3D printing is so interesting for medical technology in particular. Experts from the 3D printer manufacturer HP\, the startup accelerator Medical Forge Leipzig and the startup NEXT3D in cooperation with Leipzig University Hospital will exclusively present practical applications and innovative solutions.\nFind out\, for example\, how customised 3D printing technologies can optimise surgical procedures\, optimise treatment processes and how 3D printing helps to enable patient-specific care. Take the opportunity to gain an in-depth insight into HP's Multi Jet Fusion 3D printing technologies and learn about the latest trends. 
END:VEVENT
END:VCALENDAR
