BEGIN:VCALENDAR
VERSION:2.0
PRODID:-//YourOrganization//EventDownload//DE
CALSCALE:GREGORIAN
METHOD:PUBLISH
BEGIN:VEVENT
UID:69e8cb7954ee7@leapup.bitshifters.cloud
DTSTAMP:20260422T152201Z
DTSTART:20240126T090000Z
DTEND:20240126T140000Z
SUMMARY:Webinar medical device consultant according to §83 MPDG with certificate
DESCRIPTION:A medical device consultant is a person who provides healthcare professionals with specialist information about medical devices or instructs them in their proper use\, in accordance with &sect\; 83 MPDG. The requirements\, tasks and responsibilities are precisely defined in the Medical Devices Directive Implementation Act (MPDG). It is mandatory for all employees with customer contact (including office staff and service) if they provide information or instruction on the company's products.\nThe MPDG stipulates that medical device consultants must undergo regular training.\nIn addition to fulfilling legal requirements\, medical device consultants with knowledge of the background can better advise their customers and thus contribute to the company's success. Knowledge of regulatory procedures and compliance with them minimises risks for the company and thus supports the long-term success of the company.
LOCATION:Internet\, Leipzig
END:VEVENT
END:VCALENDAR
