BEGIN:VCALENDAR
VERSION:2.0
PRODID:-//YourOrganization//EventDownload//DE
CALSCALE:GREGORIAN
METHOD:PUBLISH
BEGIN:VEVENT
UID:69e8cb88a6fa1@leapup.bitshifters.cloud
DTSTAMP:20260422T152216Z
DTSTART:20250604T150000Z
DTEND:20250604T160000Z
SUMMARY:Webinar: Quality assurance and performance optimisation of smart vibration sensors for IoT applications
DESCRIPTION:Smart vibration sensors play a key role in IoT applications\, from infrastructure monitoring in smart cities to condition monitoring in industry. As a user\, system integrator or decision-maker\, you are faced with the challenge of evaluating the suitability and quality of these sensors for your specific application. In the webinar\, you will learn how the actual performance characteristics of smart sensor systems are analysed using high-quality laboratory equipment such as shakers\, 3D laser vibrometers and digital data acquisition. Using case studies\, we will show how hidden flaws can be uncovered and valuable recommendations for design optimisation can be derived. Gain insights into effective methods for qualifying your sensor technology and ensure the optimum performance of your IoT solutions.\nFurther information\n&nbsp\;
LOCATION:Fraunhofer EAS/IIS\, Münchner Straße 16\, 01187 Dresden
END:VEVENT
END:VCALENDAR
