BEGIN:VCALENDAR
VERSION:2.0
PRODID:-//YourOrganization//EventDownload//DE
CALSCALE:GREGORIAN
METHOD:PUBLISH
BEGIN:VEVENT
UID:69e745a606749@leapup.bitshifters.cloud
DTSTAMP:20260421T113846Z
DTSTART:20240904T130000Z
DTEND:20240904T163000Z
SUMMARY:Workshop "Agile project management in a regulated environment"
DESCRIPTION:XITASO has been working with agile methods and in compliance with ISO 13485 in medical technology projects for years and is happy to share its knowledge with you! The interactive workshop will address specific challenges and together you will outline solutions. Afterwards\, you can clarify your open questions over a small snack.
LOCATION:BIO CITY Leipzig\, Deutscher Platz 5\, 04103 Leipzig
END:VEVENT
END:VCALENDAR
