BEGIN:VCALENDAR
VERSION:2.0
PRODID:-//YourOrganization//EventDownload//DE
CALSCALE:GREGORIAN
METHOD:PUBLISH
BEGIN:VEVENT
UID:69e4ce9e1954c@leapup.bitshifters.cloud
DTSTAMP:20260419T144622Z
DTSTART:20241203T000000Z
DTEND:20241204T000000Z
SUMMARY:WORKSHOP: Circular Economy | Strategies for Sustainability & Efficiency in Surface and Thin Film Technology
DESCRIPTION:The integration of circular economy models in surface and thin-film technology is crucial for the creation of sustainable and efficient production processes. Closed material cycles\, designs &ndash\; designed for durability and repair\, efficient use of resources and renewable energies as well as life cycle strategies &ndash\; offer increasing potential to make processes and products sustainable. These need to be further developed with partnerships and collaborations from business and science across all sectors along the entire value chain.
LOCATION:Penck Hotel Dresden\, Ostra-Allee 33\, 01067 Dresden
END:VEVENT
END:VCALENDAR
