BEGIN:VCALENDAR
VERSION:2.0
PRODID:-//YourOrganization//EventDownload//DE
CALSCALE:GREGORIAN
METHOD:PUBLISH
BEGIN:VEVENT
UID:69e75a2fccdb3@leapup.bitshifters.cloud
DTSTAMP:20260421T130623Z
DTSTART:20251202T000000Z
DTEND:20251203T000000Z
SUMMARY:Workshop "Diagnostics of process plasmas"
DESCRIPTION:In order to ensure process reliability when using plasma technology\, specific process control is essential. Continuous further development of the relevant diagnostics is required to optimise and ultimately reduce the costs of production processes.\nThe workshop "Diagnostics of process plasmas: possibilities\, limits and applications" is dedicated to this topic. The latest results of plasma diagnostics from renowned research institutions will be presented and the implementation by some industrial partners will be demonstrated. In addition to very specialised diagnostic procedures\, relatively easy-to-use methods that are well suited for industrial applications will also be presented.\nMore information here.
LOCATION:Fraunhofer-Institut für Organische Elektronik\, Elektronenstrahl- und Plasmatechnik FEP\, Winterbergstraße 28\, 01277 Dresden
END:VEVENT
END:VCALENDAR
