BEGIN:VCALENDAR
VERSION:2.0
PRODID:-//YourOrganization//EventDownload//DE
CALSCALE:GREGORIAN
METHOD:PUBLISH
BEGIN:VEVENT
UID:69e8a2e8b8baf@leapup.bitshifters.cloud
DTSTAMP:20260422T122856Z
DTSTART:20230110T100000Z
DTEND:20230110T143000Z
SUMMARY:Workshop Patent Law
DESCRIPTION:The biosaxony academy invites you to the Workshop "Patent Law".\nSpeaker:\nMatthias Hoffmann\, Patent Attorney\, European Patent &amp\; Trademark Attorney at Patentanw&auml\;lte Maikowski &amp\; Ninnemann\, Leipzig \nAgenda:\n\nPrerequisites for the grant of a patent (novelty\, inventive step\, utility) &ndash\; What does this mean in the field of Small Molecules?\nWhat can you do with a patent &nbsp\;- &nbsp\;what not?\nstructure of a (small molecule) patent\n&ldquo\;reading&ldquo\; a patent: where do I quickly and clearly &nbsp\;find relevant information?\nFlowchart/Timelines: How does the process from invention to patent application look like? Deadlines f&uuml\;r submittal / resubmittal of data \, When are these data published? Patent protection\, lifecycle management\nDescription of contents ( for Small Molecules= synthesis): structure\, level of detail\, how to proceed with prophetic compounds\, which analytics is necessary?\npatentability versus freedom to operate\npatent strategies: broad or focused\, when: early or late? Advantages and disadvantages\nchanges in patent right\, evaluation of patent applications\nPatent creation in collaboration with patent attorney\n\nCosts:\nbiosaxony member: 100 EUR\nnon-member: 150 EUR\nfrom 5 participants of a company: 50 EUR per person\nfrom 5 participants of a company/non-member: 75 EUR per person\nPrices plus VAT.\nLunch is included in the price.\nThe number of participants for the event is limited. Registrations will be considered in the order in which they are received.\nRegister by 05.01.2023 via events@biosaxony.com.\n\n&nbsp\;
LOCATION:BIO CITY LEIPZIG\, Deutscher Platz 5\, 04103 Leipzig
END:VEVENT
END:VCALENDAR
