BEGIN:VCALENDAR
VERSION:2.0
PRODID:-//YourOrganization//EventDownload//DE
CALSCALE:GREGORIAN
METHOD:PUBLISH
BEGIN:VEVENT
UID:69e8a23368ad5@leapup.bitshifters.cloud
DTSTAMP:20260422T122555Z
DTSTART:20251218T130000Z
DTEND:20251218T143000Z
SUMMARY:Workshop: PRRC Training 
DESCRIPTION:\n\n\n\ncontent: \n\n\n\n\nWho needs a PRRC? \n\n\n\n\n\n\nQualification of the PRRC \n\n\n\n\n\n\nActivities/Responsibilities of the PRRC \n\n\n\n\n\n\nTechnical Documentation\, Declaration of Conformity\, Post-Market Surveillance\, Vigilance and Reporting \n\n\n\n\n\n\nFinding and naming a PRRC \n\n\n\nspeaker profile: \n\n\nKatja Krempler holds a doctorate in biology and has many years of experience in quality management\, regulatory affairs\, and the approval of medical devices. After working as a regulatory affairs manager and QMB at a start-up in Leipzig\, she joined leap:up in 2024\, where she supports start-ups and SMEs in the areas of quality management systems\, technical documentation\, and regulatory issues. \n\n\n\n\n\n\n\nspeaker: Dr. Katja Krempler \ncosts: 50\,00€ members\, 100\,00€ non-members \n\n
END:VEVENT
END:VCALENDAR
