BEGIN:VCALENDAR
VERSION:2.0
PRODID:-//YourOrganization//EventDownload//DE
CALSCALE:GREGORIAN
METHOD:PUBLISH
BEGIN:VEVENT
UID:69e8b8f24c945@leapup.bitshifters.cloud
DTSTAMP:20260422T140258Z
DTSTART:20250408T000000Z
DTEND:20250409T000000Z
SUMMARY:Workshop "Raw material supply of the future - circular economy | challenges and opportunities for materials in thin-film technology"
DESCRIPTION:With this workshop\, EFDS would like to provide an insight into the latest developments and closed-loop technologies for materials used in thin-film technology.\nLearn more about the selection\, processing and assurance of a safe and sustainable supply of critical raw materials for thin-film technology.\nFind out more here!
LOCATION:Tagungszentrum S4\, An der Stadtmauer 4\, 87435 Kempten
END:VEVENT
END:VCALENDAR
