BEGIN:VCALENDAR
VERSION:2.0
PRODID:-//YourOrganization//EventDownload//DE
CALSCALE:GREGORIAN
METHOD:PUBLISH
BEGIN:VEVENT
UID:69e4ce59bdd61@leapup.bitshifters.cloud
DTSTAMP:20260419T144513Z
DTSTART:20251211T120000Z
DTEND:20251211T160000Z
SUMMARY:Workshop: Successful Market Access to the German Healthcare System
DESCRIPTION:\n\n\nHave you developed an innovative medical product and want to successfully establish it on the German market? The path to reimbursement can be complex. In our workshop\, we will show you how to overcome the hurdles and place your products in the Medical Aids Directory (Hilfsmittelverzeichnis) or the Directory for Digital Health Applications (DiGAs). \n\n\nThis workshop is aimed at start-ups\, product managers\, and industry partners who wish to gain a deep insight into the processes and requirements of the German healthcare system. \n\n\nWhat you can expect \n\n\nIn our interactive workshop\, we will illuminate the crucial steps and prerequisites for successful market entry: \n\n\n\n\nMedical aids vs. DiGAs: Acquire knowledge about the German healthcare system\, the differences between medical aids and DiGAs as well as the involved authorities and what it needs to be admitted to the reimbursement grant. \n\n\n\n\n\n\nYour path into the healthcare system: We will explain the application procedures\, all required evidence and quality standards\, as well as how you can successfully list your products in the Medical Aids Directory. Find out which criteria your product must meet to be listed in the directory. We will cover the requirements for safety\, functionality\, quality\, and medical benefits. \n\n\n\n\n\n\n\n\nStatistics and Experience: Learn how to maxmize your chances. We will share experiences and provide you with practical tips on how to avoid common mistakes. \n\n\n\n\n\n\nQ&amp\;A Session: Ask your specific questions and use the opportunity to expand your network with our consultants. \n\n\n\n\nWho is this workshop for? This workshop is ideal for: \n\n\n\n\nAny Health-Tech company offering medical devices class I to IIb or providing a CE mark. \n\n\n\n\n\n\nDevelopers and product managers of medical products and software \n\n\n\n\n\n\nSales and marketing managers who want to learn about market access routes \n\n\n\n\n\n\nAnyone interested in the process of reimbursement for medical aids and DiGAs. \n\n\n\n\nSecure your spot now and optimally prepare your product for the German market! \n\n\nFrequently asked questions \n\n\nDoes my product need to have a CE marking to participate in the workshop? \n\n\nNo\, we are happy to provide best support from the idea\, through the European Conformity Assessment and CE mark up to being admitted to the German reimbursement system. \n\n\nDoes reimbursement guarantee sales? \n\n\nReimbursement is a crucial prerequisite for success\, but it does not automatically guarantee sales. It enables doctors to prescribe your product and health insurance companies to cover the costs. However\, successful market access also requires effective marketing and distribution strategies. \n\n\nDo I need to be a German company to apply? \n\n\nNo\, your company does not have to be based in Germany. However\, your product must be compliant with all German and European regulations. Having a local partner can be very helpful in this process. \n\n\n\n\n\nspeaker: Patricia Mattis (ITEM Hannover) \ncosts: 350\,00 € \n\n
LOCATION:BIO CITY Leipzig\, Deutscher Platz 5 \, 04103 Leipzig
END:VEVENT
END:VCALENDAR
