BEGIN:VCALENDAR
VERSION:2.0
PRODID:-//YourOrganization//EventDownload//DE
CALSCALE:GREGORIAN
METHOD:PUBLISH
BEGIN:VEVENT
UID:69e53aec5eee3@leapup.bitshifters.cloud
DTSTAMP:20260419T222828Z
DTSTART:20240131T130000Z
DTEND:20240131T160000Z
SUMMARY:1. Arbeitskreistreffen: Nachhaltige Medizintechnik
DESCRIPTION:Das Innovationscluster&nbsp\;Circular Saxony l&auml\;dt in Zusammenarbeit mit dem Fraunhofer IWU recht herzlich zum 1. Arbeitskreistreffen &bdquo\;Nachhaltige Medizintechnik&ldquo\; ein. Gemeinsam werden Herausforderungen und L&ouml\;sungsans&auml\;tze diskutiert\, um Stoffkreisl&auml\;ufe in der Medizintechnik zu schlie&szlig\;en. Folgende Leitfragen stehen im Mittelpunkt: Wo stehen wir aktuell? Wie k&ouml\;nnen wir zirkul&auml\;re Stoffstr&ouml\;me organisieren?\nEine nachhaltige Medizintechnik steht vor vielen Herausforderungen: heute sind weit mehr als die H&auml\;lfte aller Medizinprodukte Einwegprodukte\, die zum gr&ouml\;&szlig\;ten Teil aus Kunststoff bestehen.&nbsp\;Auch dadurch sind Krankenh&auml\;user der f&uuml\;nftgr&ouml\;&szlig\;te M&uuml\;llproduzent in Deutschland. Nur durch innovative zirkul&auml\;re Ans&auml\;tze (Design for Recycling\, Reuse\, effiziente Sammel- und Recyclingprozesse\, ...) zum Beispiel f&uuml\;r medizinische Einwegprodukte kann es gelingen\, in der Medizintechnik verwendete Rohstoffe in den Werkstoffkreislauf zur&uuml\;ckzuf&uuml\;hren. Daf&uuml\;r m&uuml\;ssen allerdings Hersteller\, Krankenh&auml\;user und Arztpraxen\, Entsorgungs- und Recyclingunternehmen sowie regulatorische Instanzen an einem Strang ziehen.\nProgramm\n13:00 Uhr:&nbsp\; &nbsp\; &nbsp\;&nbsp\;Begr&uuml\;&szlig\;ung und Vorstellung der Teilnehmer\n13:15 Uhr:&nbsp\; &nbsp\; &nbsp\; Organisatorisches zum Innovationscluster und Arbeitskreis\n13:30 Uhr:&nbsp\; &nbsp\; &nbsp\; Impulsvortrag zum werkstofflichen Recycling in der Medizintechnik (u.a. Whitepaper ReMed)\n14:00&nbsp\;Uhr:&nbsp\; &nbsp\; &nbsp\; Offene Diskussion (Stand der Technik\, Bedarfe\, Herausforderungen\, innovative Ans&auml\;tze)\n15:00&nbsp\;Uhr:&nbsp\; &nbsp\; &nbsp\; Ggf. Versuchsfeldf&uuml\;hrung\n15:30 Uhr:&nbsp\; &nbsp\; &nbsp\; N&auml\;chste Schritte und Ausblick\n16:00 Uhr:&nbsp\; &nbsp\; &nbsp\; Ende des Arbeitskreistreffens\nZUR ANMELDUNG
LOCATION:Fraunhofer IWU\, Reichenhainer Str. 88\, 09126 Chemnitz
END:VEVENT
END:VCALENDAR
