BEGIN:VCALENDAR
VERSION:2.0
PRODID:-//YourOrganization//EventDownload//DE
CALSCALE:GREGORIAN
METHOD:PUBLISH
BEGIN:VEVENT
UID:69e4e2beaaf6e@leapup.bitshifters.cloud
DTSTAMP:20260419T161214Z
DTSTART:20250611T000000Z
DTEND:20250612T000000Z
SUMMARY:1. JÄHRLICHES EUROPÄISCHES INNOVATIONSFORUM FÜR ADIPOSITAS IN DER BIOPHARMAZIE
DESCRIPTION:Die 1erste EBOIF-Jahreskonferenz baut auf dem starken Fundament unserer Veranstaltung in San Francisco auf\, die fast 300 Delegierte anzog. Diese europäische Ausgabe wird die akademische Spitzenforschung hervorheben\, die europäische Adipositas-Landschaft erkunden und die neuesten Fortschritte in der Arzneimittelentwicklung\, Behandlungsansätze und Investitionsmöglichkeiten vorstellen. Die Veranstaltung wird von der Stadt Leipzig  unterstützt und von der leap:up GmbH ausgerichtet. Das umfangreiche zwei-tägige Programm umfasst: \n\n10+ Stunden hochkarätige Keynotes\, Podiumsdiskussionen\, und Unternehmens- und wissenschaftliche Vorträge \nEinblicke in Arzneimittelentwicklung\, technologische Innovationenund Investitionstrends \nZugang zu den Sitzungen auf Abruf ab dem 18. Juni für virtuelle Teilnehmer \n\nJetzt anmelden!
LOCATION:The Westin Leipzig\, Gerberstraße 15\, 04105 Leipzig
END:VEVENT
END:VCALENDAR
