BEGIN:VCALENDAR
VERSION:2.0
PRODID:-//YourOrganization//EventDownload//DE
CALSCALE:GREGORIAN
METHOD:PUBLISH
BEGIN:VEVENT
UID:69e52a4ac0a4e@leapup.bitshifters.cloud
DTSTAMP:20260419T211730Z
DTSTART:20250111T000000Z
DTEND:20250111T000000Z
SUMMARY:1. JÄHRLICHES INNOVATIONSFORUM FÜR ADIPOSITAS IN DER BIOPHARMAZIE
DESCRIPTION:Das umfassende Programm des BOIF umfasst mehr als sieben Stunden hochrangiger Vorträge\, Podiumsdiskussionen und Unternehmenspräsentationen zu allen Aspekten der Wissenschaft und des Marktes für bio-pharmazeutische Adipositas\, einschließlich Arzneimittelentwicklung und -technologie\, sowie zum Aufzeigen von Investitionsmöglichkeiten. Die Sitzungen werden dem virtuellen Publikum in der Woche nach der JP Morgan-Konferenz auf Abruf zur Verfügung gestellt. Dieses Forum wird auch die Grundlage für unsere erste europäische Veranstaltung zum Thema Adipositas bilden\, die vom 17. bis 19. Juni 2025 in Leipzig stattfinden wird. Zu den wichtigsten Themen der kommenden Veranstaltung gehören:\n \nSamstag\, 11. Januar:\n\nFireside Chat mit Dr. Bei B. Zhang\, Corporate VP &amp\; TA Head - Diabetes\, Obesity &amp\; MASH\, Novo Nordisk A/S\nPotenzielles Ausmaß des Marktes &amp\; Auswirkungen auf das Gesundheitssystem Panel\nBioPharma Dealmaking: Aufbau der Pipeline Panel\nPersonalisierte Ansätze zur Behandlung von Fettleibigkeit Panel\nUnerfüllte Bedürfnisse &amp\; NextGen Therapeutics Panel\nObesity\, Cardiovascular &\; Metabolic Diseases Platforms Panel\nInnovation in Digital\, Tech &amp\; Dx für Fettleibigkeit\, Diabetes &amp\; MASH Panel\nInvestor Roundtable\n\nWeitere Informationen hier!
LOCATION:Marines' Memorial Club & Hotel\, 609 Sutter St\, 94102 San Francisco\, CA 
END:VEVENT
END:VCALENDAR
