BEGIN:VCALENDAR
VERSION:2.0
PRODID:-//YourOrganization//EventDownload//DE
CALSCALE:GREGORIAN
METHOD:PUBLISH
BEGIN:VEVENT
UID:69e58020f358b@leapup.bitshifters.cloud
DTSTAMP:20260420T032344Z
DTSTART:20220502T100000Z
DTEND:20220502T170000Z
SUMMARY:1. Mitteldeutscher Bioökonomie-Kongress 
DESCRIPTION:Mit dem 1. Mitteldeutschen Bio&ouml\;konomie-Kongress wollen die Europ&auml\;ische Metropolregion Mitteldeutschland und das DBFZ &ndash\; Deutsches Biomasseforschungszentrum mit Unterst&uuml\;tzung des BioEconomy e. V. die vielf&auml\;ltigen Potenziale der Branchen in Sachsen\, Sachsen-Anhalt und Th&uuml\;ringen pr&auml\;sentieren und die l&auml\;nder&uuml\;bergreifende Vernetzung der regionalen Akteure aus Politik\, Wirtschaft und Wissenschaft voranbringen. Im Rahmen der Veranstaltung werden rund ein Dutzend innovativer Bio&ouml\;konomie-Projekte der Unternehmen und Forschungseinrichtungen Mitteldeutschlands pr&auml\;sentiert.\nDie Teilnahme ist kostenfrei.\nModeration: Daniel Schlechter\, MDR Wissen-Redakteur\nBegleitende FachausstellungDas Programm des 1. Mitteldeutschen Bio&ouml\;konomie-Kongresses wird erg&auml\;nzt durch eine begleitende digitale Poster-Ausstellung. Sie gibt erstmals einen umfassenden &Uuml\;berblick &uuml\;ber die Bio&ouml\;konomie-Projekte und -Akteure in Sachsen\, Sachsen-Anhalt und Th&uuml\;ringen.\nLink zum Programm &amp\; Anmeldeformular\n\n\n\n\n\n\n\n\n\n\n&nbsp\;\n\n\n\n\n\n\n\n\n\n
LOCATION:Altenburger Brauerei\, Brauereistraße 20\, 04600 Altenburg & Livestream
END:VEVENT
END:VCALENDAR
