BEGIN:VCALENDAR
VERSION:2.0
PRODID:-//YourOrganization//EventDownload//DE
CALSCALE:GREGORIAN
METHOD:PUBLISH
BEGIN:VEVENT
UID:69e550fb07409@leapup.bitshifters.cloud
DTSTAMP:20260420T000235Z
DTSTART:20230614T090000Z
DTEND:20230614T140000Z
SUMMARY:10. Mitteldeutsches Forum || 3D-Druck in der Anwendung
DESCRIPTION:Das Mitteldeutsche Forum 3D-Druck in der Anwendung wird von der Ernst-Abbe-Hochschule Jena\, der Hochschule Merseburg\, der Hochschule Mittweida und der Fakult&auml\;t Ingenieurwissenschaften der HTWK Leipzig j&auml\;hrlich veranstaltet und organisiert. Zum 9. Mitteldeutschen Forum hat am 29. Juni 2022 die Ernst-Abbe-Hochschule Jena geladen\, das 10. Mitteldeutsche Forum ist f&uuml\;r den 14. Juni 2023 an der Fakult&auml\;t Ingenieurwissenschaften in Leipzig geplant.\nDas Mitteldeutsche 3D-Druck Forum bietet seit vielen Jahren Unternehmen\, Wissenschaftseinrichtungen und Interessierten eine Plattform zum Austausch &uuml\;ber aktuelle Entwicklungen und Projekte in der additiven Fertigung.\nAnmeldeschluss 02. Juni 2023\nWeitere Informationen
LOCATION:HTWK Leipzig - Fakultät Ingenieurwissenschaften Nieperbau\, Karl-Liebknecht-Straße 134\, 04277 Leipzig
END:VEVENT
END:VCALENDAR
