BEGIN:VCALENDAR
VERSION:2.0
PRODID:-//YourOrganization//EventDownload//DE
CALSCALE:GREGORIAN
METHOD:PUBLISH
BEGIN:VEVENT
UID:69e5d7fc5adf3@leapup.bitshifters.cloud
DTSTAMP:20260420T093836Z
DTSTART:20200921T090000Z
DTEND:20200923T170000Z
SUMMARY:10. ProcessNet-Jahrestagung und 34. DECHEMA-Jahrestagung der Biotechnologen 2020
DESCRIPTION:Die ProcessNet-Jahrestagung und DECHEMA-Jahrestagung der Biotechnologen gehen online! Freuen Sie sich auf vier Tage abwechslungsreiches und interaktives Programm mit Vortr&auml\;gen\, Diskussionen\, Postern und viel Gelegenheit zum Austausch untereinander. Vom 21.-24. September sehen wir uns in Ihrem Home Office oder am Schreibtisch. Weitere Informationen folgen in K&uuml\;rze.\n&nbsp\;
LOCATION:Online\, Online
END:VEVENT
END:VCALENDAR
