BEGIN:VCALENDAR
VERSION:2.0
PRODID:-//YourOrganization//EventDownload//DE
CALSCALE:GREGORIAN
METHOD:PUBLISH
BEGIN:VEVENT
UID:69e96fa7a37ea@leapup.bitshifters.cloud
DTSTAMP:20260423T030231Z
DTSTART:20131209T000000Z
DTEND:20131211T000000Z
SUMMARY:11. Dresdner Sensor-Symposium
DESCRIPTION:Beitr&auml\;ge k&ouml\;nnen bis zum 20. Mai 2013 unter www.fms-dresden.de eingereicht werden.
END:VEVENT
END:VCALENDAR
