BEGIN:VCALENDAR
VERSION:2.0
PRODID:-//YourOrganization//EventDownload//DE
CALSCALE:GREGORIAN
METHOD:PUBLISH
BEGIN:VEVENT
UID:69e4c8698001d@leapup.bitshifters.cloud
DTSTAMP:20260419T141953Z
DTSTART:20250527T090000Z
DTEND:20250530T180000Z
SUMMARY:129. Deutscher Ärztetag
DESCRIPTION:Im Foyer des Congress Center Leipzig (CCL) bieten wir Entscheidungstr&auml\;gern aus den Bereichen Medizin\, Verwaltung\, Politik und Wirtschaft ein exzellentes Forum\, um ihre Unternehmensphilosophie produktunabh&auml\;ngig zu pr&auml\;sentieren.\nAktuelle Projekte der Bundes&auml\;rztekammer und Projekte\, die die &Auml\;rzteschaft mit unterst&uuml\;tzt\, werden ebenfalls in diesem Rahmen vorgestellt.\nWeitere Informationen zur Veranstaltung finden Sie hier.
LOCATION:CCL Congress Center Leipzig\, Seehausener Allee 1 (Halle 2)\, 04356 Leipzig
END:VEVENT
END:VCALENDAR
