BEGIN:VCALENDAR
VERSION:2.0
PRODID:-//YourOrganization//EventDownload//DE
CALSCALE:GREGORIAN
METHOD:PUBLISH
BEGIN:VEVENT
UID:69e7e9eb136db@leapup.bitshifters.cloud
DTSTAMP:20260421T231939Z
DTSTART:20150914T170000Z
DTEND:20150914T210000Z
SUMMARY:13. "biosaxony vor Ort" am 14. September in Radebeul
DESCRIPTION:+++ Diese Veranstaltung ist bereits ausgebucht +++\nbiosaxony und die Arevipharma GmbH laden Sie recht herzlich zu biosaxony vor Ort &bdquo\;Pharmazeutische (Bio)Technologie&ldquo\; ein. Informieren Sie sich &uuml\;ber aktuelle Entwicklungen und Zukunftstrends und kommen Sie ins Gespr&auml\;ch mit Branchenvertretern.  Unterst&uuml\;tzt wird die Veranstaltung von der Arevipharma GmbH\, dem vfa bio\, dem Verband der Chemischen Industrie e. V. und dem Verein zur F&ouml\;rderung der Gesundheitswirtschaft in der Region Leipzig (VFG) e. V.\nThema:&nbsp\;&nbsp\;&nbsp\;&nbsp\;&nbsp\;&nbsp\;&nbsp\;&nbsp\;&nbsp\;&nbsp\; &bdquo\;Pharmazeutische (Bio)Technologie&ldquo\;\nDatum:&nbsp\;&nbsp\;&nbsp\;&nbsp\;&nbsp\;&nbsp\;&nbsp\;&nbsp\;&nbsp\;&nbsp\; Montag\, 14. September 2015\, ab 17:00 Uhr\nOrt:&nbsp\;&nbsp\;&nbsp\;&nbsp\;&nbsp\;&nbsp\;&nbsp\;&nbsp\;&nbsp\;&nbsp\;&nbsp\;&nbsp\;&nbsp\;&nbsp\;&nbsp\;&nbsp\; Arevipharma GmbH\, Mei&szlig\;ner Str. 35\, 01445 Radebeul\n+++ Aus Sicherheitsgr&uuml\;nden bitten wir darum\, keine Absatzschuhe zu tragen +++\nProgramm\n15:30 Uhr und 16:00 Uhr Besichtigung Produktion (2x2 F&uuml\;hrungen\, max. 12 Personen) &ndash\; Wir bitten um ausdr&uuml\;ckliche Anmeldung f&uuml\;r die F&uuml\;hrung. Herzlichen Dank!\n17:00 Uhr&nbsp\;&nbsp\;&nbsp\;&nbsp\;&nbsp\;&nbsp\;&nbsp\; Begr&uuml\;&szlig\;ung &ndash\; Andr&eacute\; Hofmann (biosaxony)\n17:05 Uhr &nbsp\;&nbsp\;&nbsp\;&nbsp\;&nbsp\;&nbsp\; Vorstellung der Arevipharma GmbH - Dr. Hendrik Baumann\n17:30 Uhr &nbsp\;&nbsp\;&nbsp\;&nbsp\;&nbsp\;&nbsp\; Medizinische Biotechnologie in Deutschland 2005 &bull\; 2015 &bull\; 2025&nbsp\;- Dr. Sabine Sydow (vfa bio)\n17:55 Uhr&nbsp\;&nbsp\;&nbsp\;&nbsp\;&nbsp\;&nbsp\;&nbsp\; Impfstoffentwicklung und Einsatz - Dr. Kati Zierenberg (GlaxoSmithKline Biologicals)\n18:20 Uhr&nbsp\;&nbsp\;&nbsp\;&nbsp\;&nbsp\;&nbsp\;&nbsp\; GEMoaB Monoclonals GmbH - Neue Immuntherapie-Konzepte gegen Krebs - Prof. Dr. Michael Bachmann (HZDR/TU-Dresden/GEMoaB).\n18:45 Uhr &nbsp\;&nbsp\;&nbsp\;&nbsp\;&nbsp\;&nbsp\; &nbsp\;&nbsp\; Get-Together\nDie Veranstaltung ist f&uuml\;r Vereinsmitglieder kostenfrei. G&auml\;ste sind herzlich willkommen und zahlen einen Unkostenbeitrag in H&ouml\;he von 15\,00 EUR.\nBitte informieren Sie uns bis sp&auml\;testens 1. September 2015 per Email umlauft@biosaxony.com (Andrea Umlauft)\, ob wir mit Ihrer Teilnahme an der Veranstaltung rechnen d&uuml\;rfen und ob Sie gern an einer der beiden F&uuml\;hrungen teilnehmen m&ouml\;chten.\nDie Teilnehmerzahl f&uuml\;r die Veranstaltung ist begrenzt. Die Anmeldungen werden in der Reihenfolgen ihres Eingangs ber&uuml\;cksichtigt.\n\n&nbsp\;
END:VEVENT
END:VCALENDAR
