BEGIN:VCALENDAR
VERSION:2.0
PRODID:-//YourOrganization//EventDownload//DE
CALSCALE:GREGORIAN
METHOD:PUBLISH
BEGIN:VEVENT
UID:69e970ecc2c7a@leapup.bitshifters.cloud
DTSTAMP:20260423T030756Z
DTSTART:20140512T000000Z
DTEND:20140516T000000Z
SUMMARY:13. Dresdner Industrietage
DESCRIPTION:Junge Menschen brauchen Perspektiven - Wirtschaft braucht engagierten und qualifizierten Nachwuchs. Das Anliegen der Dresdner Industrietage ist es\, beide Seiten zusammenzuf&uuml\;hren. Seit 2002 l&auml\;dt deshalb der industrielle Mittelstand jedes Jahr zu Tagen der offenen T&uuml\;r ein.\nInsgesamt nutzten bisher &uuml\;ber 4.000 Teilnehmer diese M&ouml\;glichkeit\, bei Firmenbesuchen die Gesch&auml\;ftsfelder und M&auml\;rkte\, Produkte und Technologien\, Aufgabenbereiche\, Karrierechancen und sozialen Bedingungen der mittelst&auml\;ndischen High-Tech-Unternehmen kennenzulernen.
END:VEVENT
END:VCALENDAR
