BEGIN:VCALENDAR
VERSION:2.0
PRODID:-//YourOrganization//EventDownload//DE
CALSCALE:GREGORIAN
METHOD:PUBLISH
BEGIN:VEVENT
UID:69e565df204d2@leapup.bitshifters.cloud
DTSTAMP:20260420T013143Z
DTSTART:20221205T100000Z
DTEND:20221207T100000Z
SUMMARY:16. Dresdner Sensor-Symposium
DESCRIPTION:Sensorik und Messtechnik sind im Umbruch. Quanteneffekte erlauben kalibrierfreie Sensoren durch R&uuml\;ckf&uuml\;hrung auf das neue SI-Einheitensystem\, aber auch v&ouml\;llig neue Sensorl&ouml\;sungen.KI-Methoden sind fast ubiquit&auml\;r und stellen zus&auml\;tzliche Informationen &uuml\;ber Soft-Sensoren zur Verf&uuml\;gung. Klassische (bio-)analytische und spektroskopische Methoden r&uuml\;cken durch Miniaturisierung und Automatisierung n&auml\;her an die Prozesse.&nbsp\;Holographische Methoden erlauben neue Einblicke in biologische Nervensysteme. Bisherige Dom&auml\;nen der menschlichen Wahrnehmung werden erobert durch Geruchssensoren und Systeme zur Bewertung des Tierwohls.\nDas 16. Dresdner Sensor-Symposium bringt Forscher:innen zusammen mit Anwender:innen aus vielf&auml\;ltigen Einsatzgebieten\, um neueste Trends und innovative L&ouml\;sungsans&auml\;tze zu diskutieren. &Uuml\;bersichtsvortr&auml\;ge f&uuml\;hrender Wissenschaftler aus Forschungseinrichtungen und Wirtschaft pr&auml\;gen das Programm von der digitalen Zukunft der Metrologie &uuml\;ber Sensorsysteme f&uuml\;r das Tierwohl oder die Geruchsbewertung bis zur Quantensensorik. Wie unterschiedliche Ans&auml\;tze im Wettbewerb stehen\, sich aber auch gegenseitig befruchten\, ist Thema der Podiumsdiskussion &bdquo\;Instrumentelle Analytik vs. smarte Sensornetzwerke&ldquo\;.\nZum Programm und zur Registrierung
LOCATION:Hotel Bilderberg Bellevue Dresden\, Große Meissener Straße 15\, 01097 Dresden
END:VEVENT
END:VCALENDAR
