BEGIN:VCALENDAR
VERSION:2.0
PRODID:-//YourOrganization//EventDownload//DE
CALSCALE:GREGORIAN
METHOD:PUBLISH
BEGIN:VEVENT
UID:69e5ef680d838@leapup.bitshifters.cloud
DTSTAMP:20260420T111832Z
DTSTART:20191204T140000Z
DTEND:20191204T170000Z
SUMMARY:2. BIO CITY Leipzig Weihnachtsmarkt mit Adventssingen
DESCRIPTION:Nach einer tollen Premiere im vergangenen Jahr\, laden wir Sie wärmstens ein zum 2. BIO CITY Weihnachtsmarkt. Um 15 Uhr gibt es ein gemeinsames Adventsingen mit einem Ensemble des Universitätschors. Ansonsten wird verschiedenes Selbstgemachtes angeboten von Plätzchen und Glühwein bis Baumschmuck und Weihnachtskarten. Die Einnahmen werden dem guten Zweck gespendet. Dieses Jahr werden wir die Einnahmen an folgende Organisationen spenden:\n- Mukoviszidose Selbsthilfe e.V. - VEID – Verband verwaister Eltern und trauernde Geschwister e.V.\, Leipzig - Projekt „Leipzig summt!“ – ein Projekt für mehr Biodiversität von Insekten und deren Lebensräume in Leipzig\nGerne können Sie die Einladung auch in Ihren Netzwerken als auch mit Freunden und Bekannten teilen\, damit wir uns alle wieder über eine große Besucherschar freuen können und somit das Spendentöpfchen füllen.\n 
LOCATION:BIO CITY Leipzig\, Deutscher Platz 5\, 04103 Leipzig
END:VEVENT
END:VCALENDAR
