BEGIN:VCALENDAR
VERSION:2.0
PRODID:-//YourOrganization//EventDownload//DE
CALSCALE:GREGORIAN
METHOD:PUBLISH
BEGIN:VEVENT
UID:69e5c180824f7@leapup.bitshifters.cloud
DTSTAMP:20260420T080240Z
DTSTART:20210202T140000Z
DTEND:20210203T120000Z
SUMMARY:2. Doktoranden- und PostDoc-Konferenz ProMatLeben - Polymere
DESCRIPTION:Vom 02. bis 03. Februar 2021 organisiert die Begleitma&szlig\;nahme ProMatLeben-WIN die 2.&nbsp\; Doktoranden- und PostDoc-Konferenz der BMBF-F&ouml\;rderma&szlig\;nahme ProMatLeben - Polymere als ein virtuelles Meeting. Ziel der Veranstaltung ist es\, den wissenschaftlichen Nachwuchs nachhaltig zu f&ouml\;rdern und zu st&auml\;rken. Aus diesem Grund soll neben wissenschaftlichem Input vorallem auch das &bdquo\;Personal Branding&ldquo\; vermittelt werden.\nAlle Doktoranden und PostDocs sind herzlich eingeladen dieser Konferenz kostenfrei beizuwohnen. Nutzen Sie Ihre Chance! Anmeldeschluss ist der 25. Januar 2021.\nWichtigstes in K&uuml\;rze:\n\nDatum: 02.-03. Februar 2021\n\n\nVirtuelles Meeting\n\n\nAnmeldeschluss: 25. Januar 2021\n\n\nDie Teilnahme an der Veranstaltung ist kostenlos\, allerdings ist die Teilnehmerzahl begrenzt!\n\n\nHier geht es zur Anmeldung\n\nWeitere Informationen
END:VEVENT
END:VCALENDAR
