BEGIN:VCALENDAR
VERSION:2.0
PRODID:-//YourOrganization//EventDownload//DE
CALSCALE:GREGORIAN
METHOD:PUBLISH
BEGIN:VEVENT
UID:69e6d650cbb37@leapup.bitshifters.cloud
DTSTAMP:20260421T034344Z
DTSTART:20140212T200000Z
DTEND:20140212T200000Z
SUMMARY:2 im Turm
DESCRIPTION:\nAuf einer gemeinsamen Reise durch die Technischen Sammlungen begegnen sich zwei Menschen unterschiedlicher Wissenschaftsdisziplinen. Sie erz&auml\;hlen unterwegs von ihrer Arbeit\, ihrem Leben\, musizieren zusammen\, meistern Spiele und R&auml\;tsel und beantworten bei Bier und Wein im Turmcaf&eacute\; Ihre Fragen.\n\nEine Veranstaltung der Technischen Sammlungen Dresden mit dem Max-Planck-Institut f&uuml\;r molekulare Zellbiologie und Genetik Dresden (MPI-CBG) und Triple Helix DIALOG.Eintritt: 5 Euro / erm&auml\;&szlig\;igt 4 Euro
END:VEVENT
END:VCALENDAR
