BEGIN:VCALENDAR
VERSION:2.0
PRODID:-//YourOrganization//EventDownload//DE
CALSCALE:GREGORIAN
METHOD:PUBLISH
BEGIN:VEVENT
UID:69e88d328c357@leapup.bitshifters.cloud
DTSTAMP:20260422T105618Z
DTSTART:20200327T150000Z
DTEND:20200327T170000Z
SUMMARY:2. Live-Webkonferenz: Corona - Austausch über Herausforderungen für die Branche
DESCRIPTION:Um Ihnen in Zeiten von Corona/Covid-19 eine M&ouml\;glichkeit zum Austausch untereinander zu geben\, wie Sie in Ihrem Unternehmen/Ihrer Einrichtung mit den Herausforderungen des Virus umgehen\, welche Ma&szlig\;nahmen Sie etabliert haben und welche Sie vorbereiten (sollten)\, organisiert biosaxony f&uuml\;r Sie regelm&auml\;&szlig\;ig einen interaktiven\, webbasierten Dialog. Wir m&ouml\;chten uns ganz herzlich bei der Stadtverwaltung Leipzig bedanken\, die biosaxony hier dabei unterst&uuml\;tzt\, diese Angebote f&uuml\;r Sie organisieren zu k&ouml\;nnen.\nIhren W&uuml\;nschen und Anregungen nach der ersten Web-Konferenz folgend\, m&ouml\;chten wir Sie nun zur 2. Web-Konferenz zu rechtlichen Themen rund um die Herausforderungen der gegenw&auml\;rtigen Situation in Unternehmen einladen. Wir freuen uns\, am Freitag\, dem 27. M&auml\;rz von 15-17 Uhr folgende Referenten begr&uuml\;&szlig\;en zu k&ouml\;nnen:\n\n Steuern: Dr. Bernd Kugelberg\, Schneider + Partner GmbH\n Vertragsrecht/Gesellschaftsrecht: Denis Ullrich\, LUTHER Rechtsanwaltsgesellschaft mbH\n Arbeitsrecht: Frank Martin Thomsen\, Battke Gr&uuml\;nberg Rechtsanw&auml\;lte PartGmbB \n Insolvenzrecht: Bj&ouml\;rn Frische\, CMS Hasche Sigle\n\nWie in der ersten Konferenz werden die Referenten auch hier zun&auml\;chst einen &Uuml\;berblick &uuml\;ber die aktuelle Situation geben. Im Anschluss besteht f&uuml\;r Sie die M&ouml\;glichkeit\, Fragen zu stellen.\nTermin: 27.03.2020 // 15 &ndash\; 17 Uhr\nZugang per Computer\, Tablet oder Smartphone: https://global.gotomeeting.com/join/853864269Sie k&ouml\;nnen sich auch &uuml\;ber ein Telefon einw&auml\;hlen: +49 692 5736 7317Zugangscode: 853-864-269\nSie kennen GoToMeeting noch nicht? Installieren Sie jetzt die App\, damit Sie f&uuml\;r Ihr erstes Meeting bereit sind: https://global.gotomeeting.com/install/853864269\nZus&auml\;tzlich m&ouml\;chten wir Sie &uuml\;ber folgendes Angebot informieren:\nAlle Referenten haben zugestimmt\, in der 14. Kalenderwoche kostenfreie 1:1 Beratungstermine &agrave\; 30 Minuten zu Ihren jeweiligen Fragestellungen f&uuml\;r Sie anzubieten.\nBitte nutzen Sie f&uuml\;r Ihre Anmeldung die hier verlinkte Online-Registrierung oder senden Sie eine kurze Mail an mailto:events@biosaxony.com an. Wir koordinieren Termin und Kontakt f&uuml\;r Sie. Die Daten zu den einzelnen Themen finden Sie unten aufgef&uuml\;hrt:\n\nSteuern: 31.03.\, 14:00 &ndash\; 17:00 Uhr\nVertragsrecht/Gesellschaftsrecht: voraussichtlich 01.04.\, 14:00 &ndash\; 17:00 Uhr\nArbeitsrecht: voraussichtlich 02.04.\, 9:00 &ndash\; 12:00 Uhr\nInsolvenzrecht: voraussichtlich 02.04.\, 14:00 &ndash\; 17:00 Uhr\n\nWir freuen uns auf den Austausch mit Ihnen!\nSupported by\n
END:VEVENT
END:VCALENDAR
