BEGIN:VCALENDAR
VERSION:2.0
PRODID:-//YourOrganization//EventDownload//DE
CALSCALE:GREGORIAN
METHOD:PUBLISH
BEGIN:VEVENT
UID:69e76869720c9@leapup.bitshifters.cloud
DTSTAMP:20260421T140705Z
DTSTART:20180928T081500Z
DTEND:20180928T100000Z
SUMMARY:20. biosaxony Business Breakfast der AG Recht & Steuern: "Know-How-Schutz"
DESCRIPTION:Am 28. September 2018 laden die AG Recht &amp\; Steuern und biosaxony Sie recht herzlich zum 19. Business Breakfast „Recht &amp\; Steuern“ ein. Im Fokus der Veranstaltung wird das Thema „Know-How-Schutz“ stehen.\nIn einer zunehmend informationsbasierten Wirtschaft sind Geschäftsgeheimnisse ein wesentliches Asset. Gleichzeitig sind geheime Informationen in einer vernetzten Welt durch Betriebsspionage und Geheimnisverrat bedroht. Besonders wichtig in diesem Zusammenhang ist die Änderung der gesetzlichen Rahmenbedingungen für den Know-how-Schutz durch die neue EU-Richtlinie zum Schutz von Geschäftsgeheimnissen\, die nun durch das Geheimnisschutzgesetz in nationales Recht umgesetzt wird. Das Gesetz führt neue Voraussetzungen für den rechtlichen Schutz von Informationen ein und enthält wichtige Regelungen für eine effektive Rechtsverfolgung im Verletzungsfall.\nBei unserem Business Breakfast wird Sie Rechtsanwalt Stefan Schreiber von der internationalen Wirtschaftskanzlei CMS Hasche Sigle kompakt und praxisnah informieren\, wie sich Unternehmen vor Spionage und Geheimnisverrat schützen können und was es im Verletzungsfall zu beachten gilt.\nWir bitten Sie recht herzlich\, für Ihre Anmeldung die hier verlinkte online Registrierung  zu nutzen.\nWir freuen uns auf Sie und heißen Sie bei einem „Guten-Morgen-Kaffee/Tee“ herzlich Willkommen.\nHinweis:\nAuch wenn das Business Breakfast prinzipiell für Sie kostenfrei zur Verfügung steht\, sind die Vorbereitungen und die Durchführung mit Aufwand (Kosten des Caterings\, Raummiete etc.) verbunden. Geschuldet dem Verwaltungs- und Organisationsaufwand werden wir daher eine No-Show-Fee\, d.h. eine Gebühr für unentschuldigtes Nichterscheinen\, in Höhe von 15\,00 EUR netto pro Person erheben. Eine kostenfreie Absage kann bis spätestens 24h vor Beginn der Veranstaltung unter events@biosaxony.com erfolgen.
LOCATION:BIO CITY LEIPZIG\, Konferenzraum 2 im Atrium\, Deutscher Platz 5\, 04103  Leipzig
END:VEVENT
END:VCALENDAR
