BEGIN:VCALENDAR
VERSION:2.0
PRODID:-//YourOrganization//EventDownload//DE
CALSCALE:GREGORIAN
METHOD:PUBLISH
BEGIN:VEVENT
UID:69e5ef6c97923@leapup.bitshifters.cloud
DTSTAMP:20260420T111836Z
DTSTART:20191203T170000Z
DTEND:20191203T200000Z
SUMMARY:22. biosaxony vor Ort  „Wenn das Immunsystem die Freundschaft kündigt - Autoimmunerkrankungen und aktuelle Trends“
DESCRIPTION:Eine gemeinsame Veranstaltung von vfa bio\, VCI und biosaxony\n        \nPROGRAMM\nab 16:30 Uhr: Teilnehmer-Registrierung\n17:00 – 17:05 Uhr: Eröffnung und Begrüßung                             André Hofmann\, biosaxony\n17:05 – 17:20 Uhr: Grußworte                            Prof. Dr. Dr. Ulrike Köhl\, Fraunhofer-Institut für Zelltherapie und Immunologie (IZI)\n17:20 – 17:35 Uhr: Ziele\, Aufgaben und Struktur der Agentur für Sprunginnovation                            Hans-Peter Hiepe\, Bundesministerium für Bildung und Forschung\n17:40 – 17:55 Uhr: Medizinische Biotechnologie in Deutschland: Wirtschaftsdaten und die Bedeutung von Biopharmazeutika                             bei Autoimmunerkrankungen                            Dr. Sabine Sydow\, vfa bio\n18:00 – 18:15 Uhr: Innovative Pharmaforschung aus Sicht der Industrie: Nutzen für Patienten mit Autoimmunerkrankungen                            Dr. Stefan Simianer\, AbbVie Deutschland GmbH &amp\; Co. KG\n18:20 – 18:35 Uhr: Körperkerntemperatur als digitaler Biomarker für die Diagnostik von Autoimmunerkrankungen                            Sebastian Alexander\, VivoSensMedical GmbH\n18:40 – 18:55 Uhr: Die Niere als Spiegel des Gesamtorganismus bei Autoimmunphänomenen                            Prof. Dr. Joachim Beige\, Klinikum St. Georg Leipzig\n19:00 – 19:15 Uhr: Chronisch-entzündliche Gelenkerkrankungen - erfordern neue Therapeutika auch neue Diagnostika?                            Prof. Dr. Ulf Wagner\, Universitätsklinikum Leipzig\, Sektion Rheumatologie\nModeration: André Hofmann und Simone Haubner\, biosaxony\nAnschließend: Get-together mit kleinem Imbiss\nHINWEISE\nWir bitten Sie zu berücksichtigen\, dass die Annahme dieser Einladung der Übereinstimmung mit den Compliance-Vorschriften Ihres Dienstherren bzw. Arbeitgebers und ggf. auch seiner Information oder Genehmigung bedarf.\nDie Veranstaltung ist kostenfrei.\nBitte nutzen Sie zur Anmeldung die hier verlinkte Online-Registrierung.
LOCATION:Fraunhofer-Institut für Zelltherapie und Immunologie (IZI)\, Perlickstr. 1\, 04103 Leipzig
END:VEVENT
END:VCALENDAR
