BEGIN:VCALENDAR
VERSION:2.0
PRODID:-//YourOrganization//EventDownload//DE
CALSCALE:GREGORIAN
METHOD:PUBLISH
BEGIN:VEVENT
UID:69e52a4b749cf@leapup.bitshifters.cloud
DTSTAMP:20260419T211731Z
DTSTART:20240912T130000Z
DTEND:20240914T130000Z
SUMMARY:23. Jahrestagung der Deutschen Gesellschaft für Computer- und Roboterassistierte Chirurgie e. V.
DESCRIPTION:Die&nbsp\;CURAC 2024&nbsp\;wird von f&uuml\;hrenden Experten und Wissenschaftlern besucht\, die sich &uuml\;ber die neuesten Entwicklungen und Innovationen in der Medizintechnik austauschen. In der Villa Ida finden sie nicht nur eine inspirierende Umgebung\, sondern auch modernste technische Ausstattung f&uuml\;r Vortr&auml\;ge\, Diskussionen und Pr&auml\;sentationen.\nWeitere Informationen und zur Anmeldung
LOCATION:Mediencampus Villa Ida\, Poetenweg 28\, 04155 Leipzig
END:VEVENT
END:VCALENDAR
