BEGIN:VCALENDAR
VERSION:2.0
PRODID:-//YourOrganization//EventDownload//DE
CALSCALE:GREGORIAN
METHOD:PUBLISH
BEGIN:VEVENT
UID:69e5ada7bd280@leapup.bitshifters.cloud
DTSTAMP:20260420T063759Z
DTSTART:20210420T103000Z
DTEND:20210422T170000Z
SUMMARY:2nd Virtual MedtecLIVE & SUMMIT
DESCRIPTION:Die Virtuelle MedtecLIVE &amp\; SUMMIT vernetzt alle Player der Medizintechnik-Branche\, vom klassischen Zulieferer bis zum Hersteller. Treffen Sie auf Entscheider aus Regulierung\, Forschung\, Entwicklung\, Projekt- und Produktmanagement\, Vertrieb und Marketing\, Beschaffung\, Einkauf und Produktion\, Investoren sowie forschende &Auml\;rzte.\nDie perfekte Erg&auml\;nzung bietet wie in den Vorjahren der hochrangige Kongress MedtecSUMMIT. Internationale Experten bieten\, unterteilt in neun Leitthemen\, erstklassiges\, aktuelles Wissen aus erster Hand. Eine enge Verkn&uuml\;pfung zwischen virtueller MedtecLIVE &amp\; SUMMIT garantiert Ihnen die perfekte Symbiose zwischen Content und Kontakten. Erwartet werden zur zweiten Ausgabe der virtuellen MedtecLIVE &amp\; SUMMIT erneut mehr als 3.000 nationale und internationale Teilnehmer.\nWerden Sie ein Teil der virtuellen MedtecLIVE &amp\; SUMMIT. Unsere Erfahrung ist Ihr Mehrwert.\n\nProgramm und Anmeldung\n\n
END:VEVENT
END:VCALENDAR
