BEGIN:VCALENDAR
VERSION:2.0
PRODID:-//YourOrganization//EventDownload//DE
CALSCALE:GREGORIAN
METHOD:PUBLISH
BEGIN:VEVENT
UID:69e8128a868c6@leapup.bitshifters.cloud
DTSTAMP:20260422T021258Z
DTSTART:20141128T080000Z
DTEND:20141128T093000Z
SUMMARY:3. Business Breakfast Recht & Steuern
DESCRIPTION:Am Freitag\, den 28. November 2014 findet das 3. Business Breakfast &bdquo\;Recht &amp\; Steuern&ldquo\; zum Thema &bdquo\;Wer hat&acute\;s erfunden &hellip\; und wem geh&ouml\;rt&acute\;s?&ldquo\; statt.\nDas Business Breakfast widmet sich speziell dem Arbeitnehmererfinderrecht. Es wird beleuchtet\, in welchen F&auml\;llen die Regelungen des Gesetzes &uuml\;ber Arbeitnehmererfindungen anzuwenden sind und welche Rechte und Pflichten sowohl auf Seiten der Arbeitnehmer als Erfinder als auch auf Seiten der Arbeitgeber damit einhergehen. Dies betrifft beispielsweise die Bedeutung und Einhaltung von gesetzlichen Fristen\, die Erforderlichkeit von Vereinbarungen zwischen Arbeitnehmern und Arbeitgebern und die Abgabe von Erkl&auml\;rungen sowie die Berechnung und Zahlung von Verg&uuml\;tungen.&nbsp\;&nbsp\;\nBeginn ist 08:00 Uhr morgens. Das Ende der Veranstaltung ist f&uuml\;r ca. 09:30 Uhr geplant.\nVeranstaltungsort: BioInnovationsZentrum Dresden\, Tatzberg 47\, 01307 Dresden\, 5. Etage\, Raum 1\nDar&uuml\;ber hinaus sind folgende Termine/Themen bereits geplant:  30.01.2015\, 08:00 &ndash\; 09:30 Uhr\, Thema\, Geheimnisschutz und Datenschutzrecht\nAnmeldung unter lang@biosaxony.com oder Tel. 0341 96286966.
END:VEVENT
END:VCALENDAR
