BEGIN:VCALENDAR
VERSION:2.0
PRODID:-//YourOrganization//EventDownload//DE
CALSCALE:GREGORIAN
METHOD:PUBLISH
BEGIN:VEVENT
UID:69e9835d05212@leapup.bitshifters.cloud
DTSTAMP:20260423T042637Z
DTSTART:20131012T000000Z
DTEND:20131012T000000Z
SUMMARY:3. Johannstädter Praktikums- und Lehrstellenbörse
DESCRIPTION:Das ehrenamtliche Netzwerk Johannstadt veranstaltet am 12. Oktober 2013 erneut die &bdquo\;Johannst&auml\;dter Praktikum- und Lehrstellenb&ouml\;rse&ldquo\;\, eine lokale Plattform f&uuml\;r zuk&uuml\;nftige Auszubildende und ortsans&auml\;ssige Unternehmen\, die Ausbildungs &ndash\; und Praktikumsangebot pr&auml\;sentieren. Ziel ist es\, dem Fachkr&auml\;ftemangen in zahlreichen Branchen entgegen zu wirken.
END:VEVENT
END:VCALENDAR
