BEGIN:VCALENDAR
VERSION:2.0
PRODID:-//YourOrganization//EventDownload//DE
CALSCALE:GREGORIAN
METHOD:PUBLISH
BEGIN:VEVENT
UID:69e4c545d2fdd@leapup.bitshifters.cloud
DTSTAMP:20260419T140629Z
DTSTART:20250909T090000Z
DTEND:20250912T160000Z
SUMMARY:35. Jahrestagung der Deutschen Gesellschaft für Zytometrie 
DESCRIPTION:35. Jahrestagung der Deutschen Gesellschaft für Zytometrie \nWeitere Inforamtionen finden Sie hier: DGfZ Conference 2025
END:VEVENT
END:VCALENDAR
