BEGIN:VCALENDAR
VERSION:2.0
PRODID:-//YourOrganization//EventDownload//DE
CALSCALE:GREGORIAN
METHOD:PUBLISH
BEGIN:VEVENT
UID:69e5ef66e02e5@leapup.bitshifters.cloud
DTSTAMP:20260420T111830Z
DTSTART:20191129T170000Z
DTEND:20191129T220000Z
SUMMARY:3D-Druck in der personalisierten Chirurgie – Option der Zukunft?
DESCRIPTION:Eine individuell auf die Patienten zugeschnittene Therapie mit langanhaltendem optimalen Ergebnis ist das angestrebte Ziel heutigermoderner Behandlungsregime. Eine gender- und altersgerechtePharmakotherapie ist eine Facette\, diesem Anspruch einerpersonalisierten Medizin gerecht zu werden.Ein Pendant auf operativem Gebiet zu etablieren\, stellt eine nichtminder große Herausforderung dar\, sowohl den Erfordernissendurch Krankheit\, Alterung oder Verletzung zu entsprechenals auch die angestrebte Patientensicherheit im Alltag und inBelastungssituationen zu garantieren.Mit dem im März 2018 gegründeten »ZEREPRO – NetzwerkPersonalisierte Neurochirurgie« wollen wir aufneurochirurgischem / neurotraumatologischem Gebiet dazubeitragen\, operative Behandlungsstrategien zukünftig nochsicherer\, erfolgreicher und effizienter zu gestalten. ZumErreichen dieses Ziels wollen wir innerhalb des Netzwerkeswissenschaftliche\, anwenderbezogene Fragestellungenformulieren und diese mittels Know-How der beteiligten Partnerund der Spitzentechnologie regionaler und überregionalerWirtschaftsunternehmen bearbeiten.Wir möchten Sie sehr herzlich zur ZEREPRO-Jahrestagungeinladen\, die dem Schwerpunkt »3D-Druck in der PersonalisiertenChirurgie« gewidmet ist. In den Referaten werden dazu grundlegendeklinische und technologische Aspekte erläutert. Nebendem gegenwärtigen Entwicklungsstand sollen offene Fragensowie Herausforderungen und Ansätze zu deren Lösungangesprochen werden. Es ist uns eine Freude\, dass wir für dieVorträge aus-gewiesene Experten gewinnen konnten.
LOCATION:Universität Leipzig\, Klinik und Poliklinik für Neurochirurgie\,  Liebigstraße 20\, 04103  Leipzig
END:VEVENT
END:VCALENDAR
